BEGIN:VCALENDAR
VERSION:2.0
PRODID:-//wp-events-plugin.com//7.2.3.1//EN
TZID:Europe/Amsterdam
X-WR-TIMEZONE:Europe/Amsterdam
BEGIN:VEVENT
UID:5@schoon-water.nl
DTSTART;TZID=Europe/Amsterdam:20230713T130000
DTEND;TZID=Europe/Amsterdam:20230713T170000
DTSTAMP:20230629T093555Z
URL:https://www.schoon-water.nl/evenementen/techniekdag-boomteelt-in-zunde
 rt/
SUMMARY:Techniekdag Boomteelt in Zundert
DESCRIPTION:Techniekdag Boomteelt\nOp donderdag 13 juli organiseert Treepor
 t Zundert in samenwerking met project Schoon Water en vakbeurs GrootGroenP
 lus (KwekersBode) de Techniekdag Boomteelt. Deze zal gehouden worden op he
 t bedrijf van Boomkwekerij Den Eldert\, gelegen aan de Eldertstraat 16 in 
 Zundert. Eigenaren Frank en Gerard Jochems stellen die dag hun percelen te
 r beschikking om praktijkdemonstraties te tonen. Ook met aangrenzende bedr
 ijven zullen de demonstratiemogelijkheden nog bekeken worden.\nVerschillen
 de thema’s en machines\nTijdens de Techniekdag Boomteelt zal aandacht wo
 rden besteed aan noviteiten op het gebied van mechanisatie en robotisering
 . De thema’s die aan bod komen zijn o.a. grondbewerking\, schoffelen\, (
 rijen)spuittechniek\, diktemeting van laanbomen\, water en innovatie in he
 t algemeen. Het toepassen van complexe technieken is in de boomteelt een u
 itdaging\, omdat de diversiteit van producten groot is. Ieder gelijk produ
 ct kent tevens varianten in grootte\, potmaat\, aflevermoment etc. De same
 nwerking en inzet van de Treeportkwekers helpt om deze ontwikkelingen te v
 ersnellen.\n\nPraktijkgericht\nArie Schipper (functie Delphy) heeft bij he
 t project Schoon Water al contacten gelegd met verschillende fabrikanten o
 m de mogelijkheden te inventariseren. Door een werkgroep bestaande uit erv
 aren en gedreven boomkwekers\, is een selectie gemaakt van wat er daadwerk
 elijk getoond zal gaan worden. De werkgroep wil op deze dag het beste tone
 n\, en daarnaast ook vooruitkijken naar de nieuwe mogelijkheden om samen v
 erder te werken aan een gezonde en duurzame boomteelt. Als sector die de w
 ereld vergroent\, zien zij dit als een basistaak gekoppeld aan het vak van
  boomkweker.\n\nMeer informatie\nWe roepen geïnteresseerden en belanghebb
 enden op om 13 juli alvast in de agenda te markeren.\nHet gedetailleerde d
 agprogramma zal begin juni worden bekendgemaakt. Meer informatie zal te vi
 nden zijn via treeport.eu en de sociale media.
CATEGORIES:Bijeenkomst
LOCATION:Boomkwekerij Den Eldert\, Eldertstraat 16\, Zundert\, Brabant\, Ne
 derland
X-APPLE-STRUCTURED-LOCATION;VALUE=URI;X-ADDRESS=Eldertstraat 16\, Zundert\,
  Brabant\, Nederland;X-APPLE-RADIUS=100;X-TITLE=Boomkwekerij Den Eldert:ge
 o:0,0
END:VEVENT
BEGIN:VTIMEZONE
TZID:Europe/Amsterdam
X-LIC-LOCATION:Europe/Amsterdam
BEGIN:DAYLIGHT
DTSTART:20230326T030000
TZOFFSETFROM:+0100
TZOFFSETTO:+0200
TZNAME:CEST
END:DAYLIGHT
END:VTIMEZONE
END:VCALENDAR